Workbook

Sheet 资格审查公示
A1: 爱众集团2022年度外部招聘（第一批次）报名资格审查通过名单
A2: 招聘信息 | D2: 报名信息 | G2: 是否通过资格审查 | H2: 是否达到笔试开考条件（3:1）
A3: 单位 | B3: 部门 | C3: 岗位 | D3: 序号 | E3: 姓名 | F3: 身份证号
A4: 集团本部 | B4: 项目管理部 | C4: 工程成本 | D4: 1 | E4: 陈* | F4: 511681********0062 | G4: 是 | H4: 是
D5: 2 | E5: 侯*芬 | F5: 530381********2342 | G5: 是
D6: 3 | E6: 马*潇 | F6: 511381********0035 | G6: 是
D7: 4 | E7: 孙* | F7: 511602********0172 | G7: 是
D8: 5 | E8: 魏*林 | F8: 511621********7531 | G8: 是
D9: 6 | E9: 杨* | F9: 511602********5601 | G9: 是
D10: 7 | E10: 张*超 | F10: 511602********0177 | G10: 是
D11: 8 | E11: 王* | F11: 511681********3413 | G11: 是
A12: 集团本部 | B12: 财务统计部 | C12: 财务储备 | D12: 1 | E12: 曾* | F12: 511621********0321 | G12: 是 | H12: 是
D13: 2 | E13: 程*涵 | F13: 511602********0025 | G13: 是
D14: 3 | E14: 方*军 | F14: 511602********1311 | G14: 是
D15: 4 | E15: 何*琴 | F15: 522424********1229 | G15: 是
D16: 5 | E16: 黎*秋 | F16: 511602********7201 | G16: 是
D17: 6 | E17: 李* | F17: 511623********3279 | G17: 是
D18: 7 | E18: 梁*博 | F18: 511602********0910 | G18: 是
D19: 8 | E19: 唐* | F19: 510724********122X | G19: 是
D20: 9 | E20: 唐*倩 | F20: 511621********5483 | G20: 是
D21: 10 | E21: 吴* | F21: 511602********5407 | G21: 是
D22: 11 | E22: 姚* | F22: 511621********4663 | G22: 是
A23: 集团本部 | B23: 人力资源部 | C23: 薪酬绩效 | D23: 1 | E23: 王*明 | F23: 511321********4316 | G23: 是 | H23: 是
D24: 2 | E24: 石*鑫 | F24: 622621********0816 | G24: 是
D25: 3 | E25: 卿*昕 | F25: 511621********7300 | G25: 是
D26: 4 | E26: 彭* | F26: 511681********5526 | G26: 是
D27: 5 | E27: 彭* | F27: 511602********2542 | G27: 是
D28: 6 | E28: 梁*沙 | F28: 500228********3114 | G28: 是
D29: 7 | E29: 李*岭 | F29: 511602********7707 | G29: 是
D30: 8 | E30: 李*娟 | F30: 513001********1028 | G30: 是
A31: 集团本部 | B31: 行政管理部 | C31: 法务岗 | D31: 1 | E31: 马*雪 | F31: 500237********222X | G31: 是 | H31: 否
A32: 集团本部 | B32: 战略投资部 | C32: 投资管理 | D32: 1 | E32: 江*双 | F32: 511681********3431 | G32: 是 | H32: 是
D33: 2 | E33: 李* | F33: 511681********2279 | G33: 是
D34: 3 | E34: 王*南 | F34: 511602********5396 | G34: 是
D35: 4 | E35: 夏*强 | F35: 511602********4219 | G35: 是
D36: 5 | E36: 周*虎 | F36: 511622********6736 | G36: 是
A37: 集团本部 | B37: 内控审计部 | C37: 审计岗 | D37: 1 | E37: 罗* | F37: 511602********499X | G37: 是 | H37: 是
D38: 2 | E38: 赵*云 | F38: 511621********6614 | G38: 是
D39: 3 | E39: 陈* | F39: 511622********0021 | G39: 是
D40: 4 | E40: 李* | F40: 511621********7082 | G40: 是
D41: 5 | E41: 李* | F41: 511681********5026 | G41: 是
D42: 6 | E42: 李* | F42: 511621********8208 | G42: 是
D43: 7 | E43: 廖* | F43: 511623********3945 | G43: 是
D44: 8 | E44: 向* | F44: 513721********1010 | G44: 是
D45: 9 | E45: 吴* | F45: 511602********7701 | G45: 是
D46: 10 | E46: 魏*依 | F46: 511602********0024 | G46: 是
A47: 集团本部 | B47: 党群文化部 | C47: 党务干事 | D47: 1 | E47: 杨* | F47: 652701********2528 | G47: 是 | H47: 是
D48: 2 | E48: 朱*玺 | F48: 511602********001X | G48: 是
D49: 3 | E49: 周* | F49: 659001********5424 | G49: 是
D50: 4 | E50: 赵* | F50: 511621********661X | G50: 是
D51: 5 | E51: 袁*皓 | F51: 513723********121X | G51: 是
D52: 6 | E52: 唐* | F52: 511621********5483 | G52: 是
D53: 7 | E53: 帅* | F53: 450103********2513 | G53: 是
D54: 8 | E54: 庞* | F54: 511324********6106 | G54: 是
D55: 9 | E55: 卢* | F55: 532122********2240 | G55: 是
D56: 10 | E56: 韩*玲 | F56: 511681********5020 | G56: 是
D57: 11 | E57: 胡* | F57: 511621********0327 | G57: 是
D58: 12 | E58: 王*丽 | F58: 511602********4204 | G58: 是
A59: =[1]资格审查公示!A99 -> 爱众房产 | B59: =[1]资格审查公示!B99 -> 营销策划部 | C59: =[1]资格审查公示!C99 -> 策划管理 | D59: 无通过资格审查条件的报名人员 | H59: 否
A60: =[1]资格审查公示!A102 -> 爱众房产 | B60: =[1]资格审查公示!B102 -> 综合管理部 | C60: =[1]资格审查公示!C102 -> 部长 | D60: 1 | E60: 明* | F60: 511602********769X | G60: 是 | H60: 否
A61: 爱众房产 | B61: 综合管理部 | C61: 行政管理 | D61: 1 | E61: 刘*甫 | F61: 511623********0018 | G61: 是 | H61: 是
D62: 2 | E62: 樊*丽 | F62: 522423********5684 | G62: 是
D63: 3 | E63: 胡* | F63: 511621********467X | G63: 是
D64: 4 | E64: 李* | F64: 511602********2528 | G64: 是
D65: 5 | E65: 李*伟 | F65: 511602********3636 | G65: 是
D66: 6 | E66: 李* | F66: 511602********018X | G66: 是
D67: 7 | E67: 罗*强 | F67: 511623********0018 | G67: 是
D68: 8 | E68: 彭*祥 | F68: 511681********40035 | G68: 是
D69: 9 | E69: 蒲*林 | F69: 511602********6398 | G69: 是
D70: 10 | E70: 谭* | F70: 511322********1987 | G70: 是
D71: 11 | E71: 王*善 | F71: 511681********0093 | G71: 是
D72: 12 | E72: 杨* | F72: 511602********8711 | G72: 是
D73: 13 | E73: 郑*英 | F73: 511602********7400 | G73: 是
... D83: 23 | E83: 邹*君 | F83: 511323********0365 | G83: 是
A84: =[1]资格审查公示!A159 -> 爱众房产 | B84: =[1]资格审查公示!B159 -> 工程技术部 | C84: =[1]资格审查公示!C159 -> 设计管理 | D84: 1 | E84: 陈*军 | F84: 511602********5491 | G84: 是 | H84: 是
D85: 2 | E85: 李* | F85: 511622********1315 | G85: 是
D86: 3 | E86: 刘* | F86: 511602********3491 | G86: 是
D87: 4 | E87: 彭* | F87: 513001********1011 | G87: 是
D88: 5 | E88: 吴*峰 | F88: 511602********4194 | G88: 是
A89: =[1]资格审查公示!A168 -> 爱众房产 | B89: =[1]资格审查公示!B168 -> 工程技术部 | C89: =[1]资格审查公示!C168 -> 成本管理 | D89: 1 | E89: 熊* | F89: 511602********1916 | G89: 是 | H89: 是
D90: 2 | E90: 李* | F90: 513030********8017 | G90: 是
D91: 3 | E91: 罗* | F91: 511621********1989 | G91: 是
A92: =[1]资格审查公示!A174 -> 爱众建设 | B92: =[1]资格审查公示!B174 -> 工程技术部 | C92: =[1]资格审查公示!C174 -> 资料管理 | D92: 1 | E92: 陈*地 | F92: 511602********4298 | G92: 是 | H92: 是
D93: 2 | E93: 蒋* | F93: 511602********4202 | G93: 是
D94: 3 | E94: 廖*歆 | F94: 511681********008X | G94: 是
D95: 4 | E95: 彭*燕 | F95: 511602********570X | G95: 是
D96: 5 | E96: 邱*茜 | F96: 513902********1088 | G96: 是
A97: =[1]资格审查公示!A187 -> 爱众建设 | B97: =[1]资格审查公示!B187 -> 质量安全部 | C97: =[1]资格审查公示!C187 -> 安全管理 | D97: 1 | E97: 李* | F97: 513901********6416 | G97: 是 | H97: 是
D98: 2 | E98: 李* | F98: 511522********3274 | G98: 是
D99: 3 | E99: 刘*华 | F99: 511602********5197 | G99: 是
D100: 4 | E100: 刘*成 | F100: 511602********2514 | G100: 是
D101: 5 | E101: 张*鑫 | F101: 511621********0038 | G101: 是
D102: 6 | E102: 郑* | F102: 513029********5477 | G102: 是
D103: 7 | E103: 韩*远 | F103: 511681********287X | G103: 是
A104: 爱众建设 | B104: 工程技术部 | C104: 项目经理 | D104: 1 | E104: 胡* | F104: 511621********4299 | G104: 是 | H104: 是
D105: 2 | E105: 霍*浩 | F105: 511681********1819 | G105: 是
D106: 3 | E106: 卢* | F106: 511602********8537 | G106: 是
D107: 4 | E107: 陆* | F107: 511622********7317 | G107: 是
D108: 5 | E108: 田*松 | F108: 511602********3534 | G108: 是
D109: 6 | E109: 王* | F109: 511681********3454 | G109: 是
...
