Workbook

Sheet 资格审查公示
A1: 爱众集团2022年度外部招聘（第一批次）报名资格审查通过名单
A2: 招聘信息 | D2: 报名信息 | G2: 是否通过资格审查 | H2: 是否达到笔试开考条件（3:1）
A3: 单位 | B3: 部门 | C3: 岗位 | D3: 序号 | E3: 姓名 | F3: 身份证号
A4: 集团本部 | B4: 项目管理部 | C4: 工程成本 | D4: 1 | E4: 陈* | F4: 511681********0062 | G4: 是 | H4: 是
D5: 2 | E5: 侯*芬 | F5: 530381********2342 | G5: 是
D6: 3 | E6: 马*潇 | F6: 511381********0035 | G6: 是
D7: 4 | E7: 孙* | F7: 511602********0172 | G7: 是
D8: 5 | E8: 魏*林 | F8: 511621********7531 | G8: 是
D9: 6 | E9: 杨* | F9: 511602********5601 | G9: 是
D10: 7 | E10: 张*超 | F10: 511602********0177 | G10: 是
D11: 8 | E11: 王* | F11: 511681********3413 | G11: 是
A12: 集团本部 | B12: 财务统计部 | C12: 财务储备 | D12: 1 | E12: 曾* | F12: 511621********0321 | G12: 是 | H12: 是
D13: 2 | E13: 程*涵 | F13: 511602********0025 | G13: 是
D14: 3 | E14: 方*军 | F14: 511602********1311 | G14: 是
D15: 4 | E15: 何*琴 | F15: 522424********1229 | G15: 是
D16: 5 | E16: 黎*秋 | F16: 511602********7201 | G16: 是
D17: 6 | E17: 李* | F17: 511623********3279 | G17: 是
D18: 7 | E18: 梁*博 | F18: 511602********0910 | G18: 是
D19: 8 | E19: 唐* | F19: 510724********122X | G19: 是
D20: 9 | E20: 唐*倩 | F20: 511621********5483 | G20: 是
D21: 10 | E21: 吴* | F21: 511602********5407 | G21: 是
D22: 11 | E22: 姚* | F22: 511621********4663 | G22: 是
A23: 集团本部 | B23: 人力资源部 | C23: 薪酬绩效 | D23: 1 | E23: 王*明 | F23: 511321********4316 | G23: 是 | H23: 是
D24: 2 | E24: 石*鑫 | F24: 622621********0816 | G24: 是
D25: 3 | E25: 卿*昕 | F25: 511621********7300 | G25: 是
D26: 4 | E26: 彭* | F26: 511681********5526 | G26: 是
D27: 5 | E27: 彭* | F27: 511602********2542 | G27: 是
D28: 6 | E28: 梁*沙 | F28: 500228********3114 | G28: 是
D29: 7 | E29: 李*岭 | F29: 511602********7707 | G29: 是
D30: 8 | E30: 李*娟 | F30: 513001********1028 | G30: 是
A31: 集团本部 | B31: 行政管理部 | C31: 法务岗 | D31: 1 | E31: 马*雪 | F31: 500237********222X | G31: 是 | H31: 否
A32: 集团本部 | B32: 战略投资部 | C32: 投资管理 | D32: 1 | E32: 江*双 | F32: 511681********3431 | G32: 是 | H32: 是
D33: 2 | E33: 李* | F33: 511681********2279 | G33: 是
D34: 3 | E34: 王*南 | F34: 511602********5396 | G34: 是
D35: 4 | E35: 夏*强 | F35: 511602********4219 | G35: 是
D36: 5 | E36: 周*虎 | F36: 511622********6736 | G36: 是
A37: 集团本部 | B37: 内控审计部 | C37: 审计岗 | D37: 1 | E37: 罗* | F37: 511602********499X | G37: 是 | H37: 是
D38: 2 | E38: 赵*云 | F38: 511621********6614 | G38: 是
D39: 3 | E39: 陈* | F39: 511622********0021 | G39: 是
D40: 4 | E40: 李* | F40: 511621********7082 | G40: 是
...
